BEGIN:VCALENDAR
VERSION:2.0
PRODID:icalendar-ruby
CALSCALE:GREGORIAN
METHOD:PUBLISH
BEGIN:VEVENT
DTSTAMP:20260419T225548Z
UID:500-1245936@standrewswoodhaven.ca
DTSTART:20261021T180000Z
DTEND:20261021T200000Z
CLASS:PUBLIC
CREATED:20260419T163921
DESCRIPTION:Everyone is welcome to Bible study! We meet every Wednesday fro
 m 1-3. You just need to bring a bible and meet everyone in the lower lever
  of the church. \nThe group reads through a book\, chapter by chapter and
  discuss it together. \n 
LAST-MODIFIED:20260419T163921
LOCATION:Lower Level of Church
SUMMARY:Bible Study  
URL;VALUE=URI:https://www.standrewswoodhaven.ca/events/bible-study/2026-10-
 21
ATTACH;FILENAME=Bible.jpg;FMTTYPE=image/jpeg:https://dq5pwpg1q8ru0.cloudfro
 nt.net/2023/09/04/11/40/03/fcfa98ad-0908-4959-814a-e1e4cee6acd9/Bible.jpg
END:VEVENT
END:VCALENDAR
