BEGIN:VCALENDAR
VERSION:2.0
PRODID:icalendar-ruby
CALSCALE:GREGORIAN
METHOD:PUBLISH
BEGIN:VEVENT
DTSTAMP:20260421T130617Z
UID:595-1253781@standrewswoodhaven.ca
DTSTART:20260505T143000Z
DTEND:20260505T210000Z
CLASS:PUBLIC
CREATED:20260421T075825
DESCRIPTION:
LAST-MODIFIED:20260421T075825
LOCATION:Parish Hall
SUMMARY:Creekside Quilters
URL;VALUE=URI:https://www.standrewswoodhaven.ca/events/creekside-quilters/2
 026-05-05
ATTACH;FILENAME=Your-paragraph-text-7.jpg;FMTTYPE=image/jpeg:https://dq5pwp
 g1q8ru0.cloudfront.net/2026/04/20/19/13/03/ed183c7a-a7e0-4fe4-8441-ee40410
 448ef/Your-paragraph-text-7.jpg
END:VEVENT
END:VCALENDAR
