BEGIN:VCALENDAR
VERSION:2.0
PRODID:icalendar-ruby
CALSCALE:GREGORIAN
METHOD:PUBLISH
BEGIN:VEVENT
DTSTAMP:20260421T171505Z
UID:596-1254639@standrewswoodhaven.ca
DTSTART:20260526T143000Z
DTEND:20260526T163000Z
CLASS:PUBLIC
CREATED:20260421T103443
DESCRIPTION:
LAST-MODIFIED:20260421T103443
LOCATION:Parish Hall
SUMMARY:Creekside Quilters
URL;VALUE=URI:https://www.standrewswoodhaven.ca/events/creekside-quilters/2
 026-05-26
ATTACH;FILENAME=Your-paragraph-text-7.jpg;FMTTYPE=image/jpeg:https://dq5pwp
 g1q8ru0.cloudfront.net/2026/04/21/13/46/48/9ee2f05c-b951-4938-81cd-afceffc
 42186/Your-paragraph-text-7.jpg
END:VEVENT
END:VCALENDAR
