BEGIN:VCALENDAR
VERSION:2.0
PRODID:icalendar-ruby
CALSCALE:GREGORIAN
METHOD:PUBLISH
BEGIN:VEVENT
DTSTAMP:20260421T182506Z
UID:596-1255439@standrewswoodhaven.ca
DTSTART:20260602T143000Z
DTEND:20260602T163000Z
CLASS:PUBLIC
CREATED:20260421T131419
DESCRIPTION:
LAST-MODIFIED:20260421T131419
LOCATION:Parish Hall
SUMMARY:Creekside Quilters
URL;VALUE=URI:https://www.standrewswoodhaven.ca/events/creekside-quilters/2
 026-06-02
ATTACH;FILENAME=Your-paragraph-text-7.jpg;FMTTYPE=image/jpeg:https://dq5pwp
 g1q8ru0.cloudfront.net/2026/04/21/13/46/48/9ee2f05c-b951-4938-81cd-afceffc
 42186/Your-paragraph-text-7.jpg
END:VEVENT
END:VCALENDAR
