BEGIN:VCALENDAR
VERSION:2.0
PRODID:icalendar-ruby
CALSCALE:GREGORIAN
METHOD:PUBLISH
BEGIN:VEVENT
DTSTAMP:20260421T154140Z
UID:594-1254619@standrewswoodhaven.ca
DTSTART:20260513T180000Z
DTEND:20260513T203000Z
CLASS:PUBLIC
CREATED:20260421T103443
DESCRIPTION:This card club plays every Wednesday afternoon 1:00 to 3:30 at 
 St. Andrew Anglican Church Hall at 2700 Portage Ave. We are currently play
 ing whist\, euchre and crib. All games are welcome. For more information\,
  you can call Carla at 204-297-0811. Come and join us for a fun time.
LAST-MODIFIED:20260421T103443
LOCATION:Parish Hall
SUMMARY:Over 60's Card Club
URL;VALUE=URI:https://www.standrewswoodhaven.ca/events/over-60s-card-club/2
 026-05-13
ATTACH;FILENAME=Overs-60s-Card-Club.jpg;FMTTYPE=image/jpeg:https://dq5pwpg1
 q8ru0.cloudfront.net/2026/04/20/18/10/48/777cca66-eabd-4abd-bd10-dc6015ffd
 bc1/Overs-60s-Card-Club.jpg
END:VEVENT
END:VCALENDAR
